BEGIN:VCALENDAR
VERSION:2.0
PRODID:-//Swanscombe and Greenhithe Town Council - ECPv6.15.20//NONSGML v1.0//EN
CALSCALE:GREGORIAN
METHOD:PUBLISH
X-ORIGINAL-URL:https://swanscombeandgreenhithetowncouncil.gov.uk
X-WR-CALDESC:Events for Swanscombe and Greenhithe Town Council
REFRESH-INTERVAL;VALUE=DURATION:PT1H
X-Robots-Tag:noindex
X-PUBLISHED-TTL:PT1H
BEGIN:VTIMEZONE
TZID:Europe/London
BEGIN:DAYLIGHT
TZOFFSETFROM:+0000
TZOFFSETTO:+0100
TZNAME:BST
DTSTART:20230326T010000
END:DAYLIGHT
BEGIN:STANDARD
TZOFFSETFROM:+0100
TZOFFSETTO:+0000
TZNAME:GMT
DTSTART:20231029T010000
END:STANDARD
BEGIN:DAYLIGHT
TZOFFSETFROM:+0000
TZOFFSETTO:+0100
TZNAME:BST
DTSTART:20240331T010000
END:DAYLIGHT
BEGIN:STANDARD
TZOFFSETFROM:+0100
TZOFFSETTO:+0000
TZNAME:GMT
DTSTART:20241027T010000
END:STANDARD
BEGIN:DAYLIGHT
TZOFFSETFROM:+0000
TZOFFSETTO:+0100
TZNAME:BST
DTSTART:20250330T010000
END:DAYLIGHT
BEGIN:STANDARD
TZOFFSETFROM:+0100
TZOFFSETTO:+0000
TZNAME:GMT
DTSTART:20251026T010000
END:STANDARD
BEGIN:DAYLIGHT
TZOFFSETFROM:+0000
TZOFFSETTO:+0100
TZNAME:BST
DTSTART:20260329T010000
END:DAYLIGHT
BEGIN:STANDARD
TZOFFSETFROM:+0100
TZOFFSETTO:+0000
TZNAME:GMT
DTSTART:20261025T010000
END:STANDARD
END:VTIMEZONE
BEGIN:VEVENT
DTSTART;TZID=Europe/London:20251111T104000
DTEND;TZID=Europe/London:20251111T120000
DTSTAMP:20260422T040312
CREATED:20251014T134451Z
LAST-MODIFIED:20251014T134715Z
UID:10023846-1762857600-1762862400@swanscombeandgreenhithetowncouncil.gov.uk
SUMMARY:St Peter & St Pauls' Church Swanscombe Park Service and Act of Remembrance
DESCRIPTION:  \n \nSwanscombe Park Service and Act of Remembrance starts at 10.40am with the year 6 choir from manor school. All are welcome for refreshments at St Peter & St Pauls’ Church Centre after the service.
URL:https://swanscombeandgreenhithetowncouncil.gov.uk/event/st-peter-st-pauls-church-swanscombe-park-service-and-act-of-remembrance/
LOCATION:War Memorial – Swanscombe Park Park Rd Swanscombe DA10 0JQ UK\, United Kingdom
ATTACH;FMTTYPE=image/png:https://swanscombeandgreenhithetowncouncil.gov.uk/wp-content/uploads/2025/10/2025-Poster-for-Service-in-SG-14-Oct.png
END:VEVENT
BEGIN:VEVENT
DTSTART;TZID=Europe/London:20241111T103000
DTEND;TZID=Europe/London:20241111T123000
DTSTAMP:20260422T040312
CREATED:20241025T085820Z
LAST-MODIFIED:20241025T085820Z
UID:10022757-1731321000-1731328200@swanscombeandgreenhithetowncouncil.gov.uk
SUMMARY:Remembrance Day 2024
DESCRIPTION:11 November 2024 @ 10.45am.\n\nwww.swanscombechurch.co.uk\n\nAll are welcome to attend.
URL:https://swanscombeandgreenhithetowncouncil.gov.uk/event/remembrance-day-2024/
LOCATION:War Memorial – Swanscombe Park Park Rd Swanscombe DA10 0JQ UK\, United Kingdom
CATEGORIES:Community Event
ATTACH;FMTTYPE=image/jpeg:https://swanscombeandgreenhithetowncouncil.gov.uk/wp-content/uploads/2024/10/2024-Wreath-with-our-card.jpg
END:VEVENT
END:VCALENDAR